BEGIN:VCALENDAR
VERSION:2.0
PRODID:-//Fundación Ciudad de la Energía - ECPv6.15.14//NONSGML v1.0//EN
CALSCALE:GREGORIAN
METHOD:PUBLISH
X-WR-CALNAME:Fundación Ciudad de la Energía
X-ORIGINAL-URL:https://ciuden.es
X-WR-CALDESC:Eventos para Fundación Ciudad de la Energía
REFRESH-INTERVAL;VALUE=DURATION:PT1H
X-Robots-Tag:noindex
X-PUBLISHED-TTL:PT1H
BEGIN:VTIMEZONE
TZID:UTC
BEGIN:STANDARD
TZOFFSETFROM:+0000
TZOFFSETTO:+0000
TZNAME:UTC
DTSTART:20250101T000000
END:STANDARD
END:VTIMEZONE
BEGIN:VEVENT
DTSTART;TZID=UTC:20260422T113000
DTEND;TZID=UTC:20260422T143000
DTSTAMP:20260422T112404
CREATED:20260417T142631Z
LAST-MODIFIED:20260417T142631Z
UID:15284-1776857400-1776868200@ciuden.es
SUMMARY:40 años de las Escuelas Taller - Programa TándEM
DESCRIPTION:La directora general de la Fundación Ciudad de la Energía (CIUDEN)\, Yasodhara López\, asiste a la exposición “40 años de las Escuelas Taller – Programa TándEM: transformando vidas”.
URL:https://ciuden.es/evento/40-anos-de-las-escuelas-taller-programa-tandem/
LOCATION:Monasterio Santa María la Real\, Aguilar de Campoo\, Palencia\, Spain
CATEGORIES:Dirección General,General
END:VEVENT
END:VCALENDAR