BEGIN:VCALENDAR
VERSION:2.0
PRODID:-//Fundación Ciudad de la Energía - ECPv6.15.14//NONSGML v1.0//EN
CALSCALE:GREGORIAN
METHOD:PUBLISH
X-WR-CALNAME:Fundación Ciudad de la Energía
X-ORIGINAL-URL:https://ciuden.es
X-WR-CALDESC:Eventos para Fundación Ciudad de la Energía
REFRESH-INTERVAL;VALUE=DURATION:PT1H
X-Robots-Tag:noindex
X-PUBLISHED-TTL:PT1H
BEGIN:VTIMEZONE
TZID:UTC
BEGIN:STANDARD
TZOFFSETFROM:+0000
TZOFFSETTO:+0000
TZNAME:UTC
DTSTART:20240101T000000
END:STANDARD
END:VTIMEZONE
BEGIN:VEVENT
DTSTART;TZID=UTC:20250303T100000
DTEND;TZID=UTC:20250303T200000
DTSTAMP:20260424T155638
CREATED:20250228T110109Z
LAST-MODIFIED:20250228T111846Z
UID:9593-1740996000-1741032000@ciuden.es
SUMMARY:Visita a A Coruña
DESCRIPTION:La directora general de la Fundación Ciudad de la Energía (CIUDEN)\, Yasodhara López\, y el director del área de formación y producción de planta\, visitan el Centro de Formación y Experimentación Agraria de Guísamo\, el Centro de Investigaciones Agrarias de Mabegondo y el Jardín de los Helechos de Bergondo.
URL:https://ciuden.es/evento/visita-a-a-coruna/
LOCATION:Guísamo y Bergondo
CATEGORIES:Dirección General,General
END:VEVENT
BEGIN:VEVENT
DTSTART;TZID=UTC:20250307T110000
DTEND;TZID=UTC:20250307T130000
DTSTAMP:20260424T155638
CREATED:20250228T110626Z
LAST-MODIFIED:20250228T111755Z
UID:9598-1741345200-1741352400@ciuden.es
SUMMARY:Presentación de La Recicladora Cultural en Barcelona
DESCRIPTION:La directora general de la Fundación Ciudad de la Energía (CUIDEN)\, Yasodhara Lípez\, y la directora del área de museos\, cultura y patrimonio\, Concepción Fernández\, intervienen en el acto de presentación de La Recicladora Cultural en la Casa Amèrica Catalunya (Barcelona)
URL:https://ciuden.es/evento/presentacion-de-la-recicladora-cultural-en-barcelona/
LOCATION:Casa Amèrica Catalunya (Barcelona)
CATEGORIES:Dirección General,General
END:VEVENT
BEGIN:VEVENT
DTSTART;TZID=UTC:20250312T100000
DTEND;TZID=UTC:20250312T140000
DTSTAMP:20260424T155638
CREATED:20250307T074454Z
LAST-MODIFIED:20250307T084142Z
UID:9746-1741773600-1741788000@ciuden.es
SUMMARY:Inauguración de 'MagnIA' en Teruel
DESCRIPTION:La directora general de la Fundación Ciudad de la Energía\, Yasodhara López\, interviene en el acto de inauguración de ‘MagnIA’\, exposición que forma parte de La Recicladora Cultural\, y que itinerará por diez localidades de Teruel vinculadas con los Centros de Innovación Territorial (CIT).
URL:https://ciuden.es/evento/inauguracion-de-magnia-en-teruel/
LOCATION:Museo de Pablo Serrano (Crivillén\, Teruel)
CATEGORIES:Dirección General,General
END:VEVENT
BEGIN:VEVENT
DTSTART;TZID=UTC:20250313T180000
DTEND;TZID=UTC:20250313T190000
DTSTAMP:20260424T155638
CREATED:20250307T080520Z
LAST-MODIFIED:20250307T080520Z
UID:9756-1741888800-1741892400@ciuden.es
SUMMARY:Conferencia 'Cómo mantener la ilusión 25 años después'
DESCRIPTION:La directora general de la Fundación Ciudad de la Energía\, Yasodhara López\, asiste a la conferencia ‘Cómo mantener la ilusión 25 años después’\, que impartirá Toni Nadal con motivo de la celebración de los 25 años de la planta de LM en Ponferrada.
URL:https://ciuden.es/evento/conferencia-como-mantener-la-ilusion-25-anos-despues/
LOCATION:La Térmica Cultural
CATEGORIES:Dirección General,General
END:VEVENT
BEGIN:VEVENT
DTSTART;TZID=UTC:20250314T183000
DTEND;TZID=UTC:20250314T200000
DTSTAMP:20260424T155638
CREATED:20250307T080909Z
LAST-MODIFIED:20250307T080909Z
UID:9760-1741977000-1741982400@ciuden.es
SUMMARY:Charla 'Mujeres en la vanguardia'
DESCRIPTION:La directora general de la Fundación Ciudad de la Energía\, Yasodhara López\, da la bienvenida en la charla ‘Mujeres en la vanguardia: experiencias en el sector técnico’\, actividad impulsada por CIUDEN en el marco de conmemoración del Día Internacional de la Mujer\, en la que intervendrán mujeres con puestos técnicos en CIUDEN\, INCIBE\, Norvento Enerxía y Universidad de León.
URL:https://ciuden.es/evento/charla-mujeres-en-la-vanguardia/
LOCATION:La Térmica Cultural
CATEGORIES:Dirección General,General
END:VEVENT
BEGIN:VEVENT
DTSTART;TZID=UTC:20250318T100000
DTEND;TZID=UTC:20250318T110000
DTSTAMP:20260424T155638
CREATED:20250314T094447Z
LAST-MODIFIED:20250314T094447Z
UID:9830-1742292000-1742295600@ciuden.es
SUMMARY:Reunión con el presidente de la Diputación de León
DESCRIPTION:La directora general de la Fundación Ciudad de la Energía (CIUDEN)\, Yasodhara López\, mantiene un encuentro de trabajo con el presidente de la Diputación de León\, Gerardo Álvarez Courel.
URL:https://ciuden.es/evento/reunion-con-el-presidente-de-la-diputacion-de-leon/
LOCATION:Diputación de León
CATEGORIES:Dirección General,General
END:VEVENT
BEGIN:VEVENT
DTSTART;TZID=UTC:20250321T123000
DTEND;TZID=UTC:20250321T133000
DTSTAMP:20260424T155638
CREATED:20250314T094927Z
LAST-MODIFIED:20250314T100426Z
UID:9836-1742560200-1742563800@ciuden.es
SUMMARY:Reunión con Asprona Bierzo y Simbiota
DESCRIPTION:La directora general de la Fundación Ciudad de la Energía (CIUDEN)\, Yasodhara López\, mantiene un encuentro de trabajo con el director general de Asprona Bierzo\, Valentín Barrio\, y el fundador y de CEO de Simbiotia\, Albert Cervera\, sobre el proyecto ‘Humanización’.
URL:https://ciuden.es/evento/reunion-con-asprona-bierzo-y-simbiota/
LOCATION:La Térmica Cultural
CATEGORIES:Dirección General,General
END:VEVENT
END:VCALENDAR