BEGIN:VCALENDAR
VERSION:2.0
PRODID:-//Fundación Ciudad de la Energía - ECPv6.15.14//NONSGML v1.0//EN
CALSCALE:GREGORIAN
METHOD:PUBLISH
X-ORIGINAL-URL:https://ciuden.es
X-WR-CALDESC:Eventos para Fundación Ciudad de la Energía
REFRESH-INTERVAL;VALUE=DURATION:PT1H
X-Robots-Tag:noindex
X-PUBLISHED-TTL:PT1H
BEGIN:VTIMEZONE
TZID:UTC
BEGIN:STANDARD
TZOFFSETFROM:+0000
TZOFFSETTO:+0000
TZNAME:UTC
DTSTART:20240101T000000
END:STANDARD
END:VTIMEZONE
BEGIN:VEVENT
DTSTART;TZID=UTC:20250402T103000
DTEND;TZID=UTC:20250402T113000
DTSTAMP:20260424T144525
CREATED:20250328T114048Z
LAST-MODIFIED:20250328T114123Z
UID:9950-1743589800-1743593400@ciuden.es
SUMMARY:Presentación de La Recicladora Cultural en Burgos
DESCRIPTION:La directora general de la Fundación Ciudad de la Energía (CIUDEN)\, Yasodhara López\, presenta La Recicladora Cultural ante varias entidades\, junto con el subdelegado del Gobierno en Burgos.
URL:https://ciuden.es/evento/presentacion-de-la-recicladora-cultural-en-burgos/
LOCATION:Subdelegación del Gobierno en Burgos
CATEGORIES:Dirección General,General
END:VEVENT
BEGIN:VEVENT
DTSTART;TZID=UTC:20250404T183000
DTEND;TZID=UTC:20250404T190000
DTSTAMP:20260424T144525
CREATED:20250328T114258Z
LAST-MODIFIED:20250328T114258Z
UID:9953-1743791400-1743793200@ciuden.es
SUMMARY:Editatona Wikimedia España
DESCRIPTION:La directora general de la Fundación Ciudad de la Energía (CIUDEN)\, Yasodhara López\, da la bienvenida de la llegada de los participantes en el evento de la Editatona Wikimedia España.
URL:https://ciuden.es/evento/editatona-wikimedia-espana/
LOCATION:La Fábrica de Luz. Museo de la Energía
CATEGORIES:Dirección General,General
END:VEVENT
BEGIN:VEVENT
DTSTART;TZID=UTC:20250405T100000
DTEND;TZID=UTC:20250405T103000
DTSTAMP:20260424T144525
CREATED:20250328T114407Z
LAST-MODIFIED:20250328T114911Z
UID:9955-1743847200-1743849000@ciuden.es
SUMMARY:Editatona Wikimedia España
DESCRIPTION:La directora general de la Fundación Ciudad de la Energía (CIUDEN)\, Yasodhara López\, abre el  evento de la Editatona Wikimedia España.
URL:https://ciuden.es/evento/editatona-wikimedia-espana-2/
LOCATION:La Térmica Cultural
CATEGORIES:Dirección General,General
END:VEVENT
BEGIN:VEVENT
DTSTART;TZID=UTC:20250405T103000
DTEND;TZID=UTC:20250405T110000
DTSTAMP:20260424T144525
CREATED:20250328T114825Z
LAST-MODIFIED:20250328T114844Z
UID:9958-1743849000-1743850800@ciuden.es
SUMMARY:Encuentro ICOM
DESCRIPTION:La directora general de la Fundación Ciudad de la Energía\, Yasodhara López\, da la bienvenida a los participantes en el encuentro del Internacional Council of Museums (ICOM).
URL:https://ciuden.es/evento/9958/
LOCATION:La Térmica Cultural
CATEGORIES:Dirección General,General
END:VEVENT
BEGIN:VEVENT
DTSTART;VALUE=DATE:20250410
DTEND;VALUE=DATE:20250411
DTSTAMP:20260424T144525
CREATED:20250404T072715Z
LAST-MODIFIED:20250404T072715Z
UID:10014-1744243200-1744329599@ciuden.es
SUMMARY:Encuentro Nacional de la RedCIT
DESCRIPTION:La directora general de la Fundación Ciudad de la Energía (CIUDEN)\, Yasodhara López\, asiste al Encuentro Nacional de Centros de Innovación Territorial (CIT).
URL:https://ciuden.es/evento/encuentro-nacional-de-la-redcit/
LOCATION:La Térmica Cultural
CATEGORIES:Dirección General,General
END:VEVENT
BEGIN:VEVENT
DTSTART;VALUE=DATE:20250411
DTEND;VALUE=DATE:20250412
DTSTAMP:20260424T144525
CREATED:20250404T072827Z
LAST-MODIFIED:20250404T072849Z
UID:10016-1744329600-1744415999@ciuden.es
SUMMARY:Encuentro Nacional de la RedCIT
DESCRIPTION:La directora general de la Fundación Ciudad de la Energía (CIUDEN)\, Yasodhara López\, asiste al Encuentro Nacional de Centros de Innovación Territorial (CIT).
URL:https://ciuden.es/evento/10016/
LOCATION:León
CATEGORIES:Dirección General,General
END:VEVENT
BEGIN:VEVENT
DTSTART;TZID=UTC:20250412T103000
DTEND;TZID=UTC:20250412T140000
DTSTAMP:20260424T144525
CREATED:20250404T072927Z
LAST-MODIFIED:20250404T072927Z
UID:10020-1744453800-1744466400@ciuden.es
SUMMARY:Encuentro Nacional de la RedCIT
DESCRIPTION:La directora general de la Fundación Ciudad de la Energía (CIUDEN)\, Yasodhara López\, asiste al Encuentro Nacional de Centros de Innovación Territorial (CIT).
URL:https://ciuden.es/evento/encuentro-nacional-de-la-redcit-2/
LOCATION:León
CATEGORIES:Dirección General,General
END:VEVENT
BEGIN:VEVENT
DTSTART;TZID=UTC:20250416T080000
DTEND;TZID=UTC:20250416T170000
DTSTAMP:20260424T144525
CREATED:20250416T132039Z
LAST-MODIFIED:20250416T132039Z
UID:10182-1744790400-1744822800@ciuden.es
SUMMARY:Jornadas 'Presente y futuro del Consejo Comarcal del Bierzo'
DESCRIPTION:La directora general de la Fundación Ciudad de la Energía\, Yasodhara López\, participa en una de las mesas redondas de las Jornadas ‘Presente y futuro de Consejo Comarcal del Bierzo’. \n  \n 
URL:https://ciuden.es/evento/jornadas-presente-y-futuro-del-consejo-comarcal-del-bierzo/
LOCATION:Consejo Comarcal del Bierzo
CATEGORIES:Dirección General,General
END:VEVENT
BEGIN:VEVENT
DTSTART;TZID=UTC:20250426T103000
DTEND;TZID=UTC:20250426T113000
DTSTAMP:20260424T144525
CREATED:20250425T060725Z
LAST-MODIFIED:20250425T060725Z
UID:10187-1745663400-1745667000@ciuden.es
SUMMARY:Jornadas ‘Presente y futuro del Consejo Comarcal del Bierzo’
DESCRIPTION:La directora general de CIUDEN\, Yasodhara López\, participa en una de las mesas redondas de las jornadas ‘Presente y futuro del Consejo Comarcal del Bierzo’ organizadas por la misma entidad.
URL:https://ciuden.es/evento/jornadas-presente-y-futuro-del-consejo-comarcal-del-bierzo-2/
LOCATION:Castillo de los Templarios
CATEGORIES:Dirección General,General
END:VEVENT
BEGIN:VEVENT
DTSTART;TZID=UTC:20250429T110000
DTEND;TZID=UTC:20250429T113000
DTSTAMP:20260424T144525
CREATED:20250425T060930Z
LAST-MODIFIED:20250425T060930Z
UID:10190-1745924400-1745926200@ciuden.es
SUMMARY:Firma de protocolo con el Ayuntamiento de Ponferrada
DESCRIPTION:La directora general de la Fundación Ciudad de la Energía (CIUDEN)\, Yasodhara López\, firma el protocolo de colaboración entre el Ayuntamiento de Ponferrada y la Fundación.
URL:https://ciuden.es/evento/firma-de-protocolo-con-el-ayuntamiento-de-ponferrada/
LOCATION:Ayuntamiento de Ponferrada
CATEGORIES:Dirección General,General
END:VEVENT
BEGIN:VEVENT
DTSTART;TZID=UTC:20250429T123000
DTEND;TZID=UTC:20250429T133000
DTSTAMP:20260424T144525
CREATED:20250425T061122Z
LAST-MODIFIED:20250425T061122Z
UID:10193-1745929800-1745933400@ciuden.es
SUMMARY:Convenio de colaboración con SECOT
DESCRIPTION:La directora general de la Fundación Ciudad de la Energía (CIUDEN)\, Yasodhara López\, firma el convenio de colaboración entre SECOT y la Fundación que se realiza en el marco de una jornada abierta al público.
URL:https://ciuden.es/evento/convenio-de-colaboracion-con-secot/
LOCATION:La Térmica Cultural
CATEGORIES:Dirección General,General
END:VEVENT
BEGIN:VEVENT
DTSTART;TZID=UTC:20250430T100000
DTEND;TZID=UTC:20250430T103000
DTSTAMP:20260424T144525
CREATED:20250425T061532Z
LAST-MODIFIED:20250425T062936Z
UID:10198-1746007200-1746009000@ciuden.es
SUMMARY:Protocolo con la Biblioteca Nacional
DESCRIPTION:La directora general de la Fundación Ciudad de la Energía (CIUDEN)\, Yasodhara López\, asiste a la reunión en la que tiene lugar la firma del protocolo de colaboración por el cual la Biblioteca Nacional se adhiere a La Recicladora Cultural.
URL:https://ciuden.es/evento/firma-de-protocolo-con-la-biblioteca-nacional/
LOCATION:Biblioteca Nacional (Madrid)
CATEGORIES:Dirección General,General
END:VEVENT
BEGIN:VEVENT
DTSTART;TZID=UTC:20250430T113000
DTEND;TZID=UTC:20250430T123000
DTSTAMP:20260424T144525
CREATED:20250425T061904Z
LAST-MODIFIED:20250425T062101Z
UID:10201-1746012600-1746016200@ciuden.es
SUMMARY:Presentación de Bierzo al toque
DESCRIPTION:La directora general de la Fundación Ciudad de la Energía (CIUDEN)\, Yasodhara López\, asiste al acto de presentación del festival de flamenco Bierzo al toque.
URL:https://ciuden.es/evento/presentacion-de-bierzo-al-toque/
LOCATION:Corral de la Morería (Madrid)
CATEGORIES:Dirección General
END:VEVENT
END:VCALENDAR