BEGIN:VCALENDAR
VERSION:2.0
PRODID:-//Fundación Ciudad de la Energía - ECPv6.15.14//NONSGML v1.0//EN
CALSCALE:GREGORIAN
METHOD:PUBLISH
X-ORIGINAL-URL:https://ciuden.es
X-WR-CALDESC:Eventos para Fundación Ciudad de la Energía
REFRESH-INTERVAL;VALUE=DURATION:PT1H
X-Robots-Tag:noindex
X-PUBLISHED-TTL:PT1H
BEGIN:VTIMEZONE
TZID:UTC
BEGIN:STANDARD
TZOFFSETFROM:+0000
TZOFFSETTO:+0000
TZNAME:UTC
DTSTART:20240101T000000
END:STANDARD
END:VTIMEZONE
BEGIN:VEVENT
DTSTART;VALUE=DATE:20250603
DTEND;VALUE=DATE:20250604
DTSTAMP:20260424T121756
CREATED:20250530T061837Z
LAST-MODIFIED:20250530T061837Z
UID:10566-1748908800-1748995199@ciuden.es
SUMMARY:Visita de delegación de Chile
DESCRIPTION:La directora general de la Fundación Ciudad de la Energía (CIUDEN)\, Yasodhara López\, recibe a la delegación de la Oficina de Transición Socioecológica Justa (OTSEJ) del Ministerio de Relaciones Exteriores y el Ministerio de Medio Ambiente del Gobierno de Chile. Esta visita se enmarca en el Programa de Actividades Específicas en el Exterior (PAEE) 2025 “Colaboración Chile-España en materia de transición socio-ecológica justa”.
URL:https://ciuden.es/evento/visita-de-delegacion-de-chile/
LOCATION:Instalaciones de CIUDEN
CATEGORIES:Dirección General,General
END:VEVENT
BEGIN:VEVENT
DTSTART;TZID=UTC:20250605T110000
DTEND;TZID=UTC:20250605T120000
DTSTAMP:20260424T121756
CREATED:20250530T061955Z
LAST-MODIFIED:20250530T061955Z
UID:10569-1749121200-1749124800@ciuden.es
SUMMARY:Inauguración de 'Ilustrando la ciencia' en Badajoz
DESCRIPTION:La directora general de la Fundación Ciudad de la Energía (CIUDEN)\, Yasodhara López\, asiste a la inauguración de la exposición Ilustrando la ciencia en el marco de La Recicladora Cultural organizada junto con la Diputación de Badajoz. A continuación tiene lugar la presentación del proyecto de La Recicladora Cultural.
URL:https://ciuden.es/evento/inauguracion-de-ilustrando-la-ciencia-en-badajoz/
LOCATION:Hospital Centro Vivo de Badajoz
CATEGORIES:Dirección General,General
END:VEVENT
BEGIN:VEVENT
DTSTART;TZID=UTC:20250613T093000
DTEND;TZID=UTC:20250613T103000
DTSTAMP:20260424T121756
CREATED:20250606T072726Z
LAST-MODIFIED:20250606T072726Z
UID:10818-1749807000-1749810600@ciuden.es
SUMMARY:PAISAJES 25
DESCRIPTION:La directora general de la Fundación Ciudad de la Energía (CIUDEN)\, Yasodhara López\, interviene en la presentación del evento PAISAJES 25.
URL:https://ciuden.es/evento/paisajes-25/
LOCATION:La Térmica Cultural
CATEGORIES:Dirección General,General
END:VEVENT
BEGIN:VEVENT
DTSTART;TZID=UTC:20250617T113000
DTEND;TZID=UTC:20250617T123000
DTSTAMP:20260424T121756
CREATED:20250618T100900Z
LAST-MODIFIED:20250618T100932Z
UID:11046-1750159800-1750163400@ciuden.es
SUMMARY:Presentación del motor del proyecto Hycerail
DESCRIPTION:La directora general de la Fundación Ciudad de la Energía\, Yasodhara López\, atiende a los medios de comunicación en la presentación de avances del proyecto Hycerail junto a la directora del Instituto para la Transición Justa (ITJ)\, Judit Carreras.
URL:https://ciuden.es/evento/11046/
LOCATION:León
CATEGORIES:Dirección General,General
END:VEVENT
BEGIN:VEVENT
DTSTART;TZID=UTC:20250619T120000
DTEND;TZID=UTC:20250619T123000
DTSTAMP:20260424T121756
CREATED:20250618T101420Z
LAST-MODIFIED:20250618T101420Z
UID:11051-1750334400-1750336200@ciuden.es
SUMMARY:Gala del Comercio de Ponferrada
DESCRIPTION:La directora general de la Fundación Ciudad de la Energía\, Yasodhara López\, asiste a la presentación a medios de la Gala del Comercio de Ponferrada organizada por el Ayuntamiento de Ponferrada.
URL:https://ciuden.es/evento/gala-del-comercio-de-ponferrada/
LOCATION:Ponferrada
CATEGORIES:Dirección General,General
END:VEVENT
END:VCALENDAR