BEGIN:VCALENDAR
VERSION:2.0
PRODID:-//Fundación Ciudad de la Energía - ECPv6.15.14//NONSGML v1.0//EN
CALSCALE:GREGORIAN
METHOD:PUBLISH
X-ORIGINAL-URL:https://ciuden.es
X-WR-CALDESC:Eventos para Fundación Ciudad de la Energía
REFRESH-INTERVAL;VALUE=DURATION:PT1H
X-Robots-Tag:noindex
X-PUBLISHED-TTL:PT1H
BEGIN:VTIMEZONE
TZID:UTC
BEGIN:STANDARD
TZOFFSETFROM:+0000
TZOFFSETTO:+0000
TZNAME:UTC
DTSTART:20240101T000000
END:STANDARD
END:VTIMEZONE
BEGIN:VEVENT
DTSTART;TZID=UTC:20251008T180000
DTEND;TZID=UTC:20251008T193000
DTSTAMP:20260422T204937
CREATED:20251003T065250Z
LAST-MODIFIED:20251003T065250Z
UID:13591-1759946400-1759951800@ciuden.es
SUMMARY:Presentación de las Jornadas Gastronómicas del Bierzo
DESCRIPTION:La directora general de la Fundación Ciudad de la Energía (CIUDEN)\, Yasodhara López\, asiste al acto de presentación de la 41 edición de las Jornadas Gastronómicas del Bierzo\, evento organizado por el Consejo Comarcal del Bierzo y que\, en esta ocasión\, cuenta con el patrocinio de CIUDEN.
URL:https://ciuden.es/evento/presentacion-de-las-jornadas-gastronomicas-del-bierzo/
LOCATION:León
CATEGORIES:Dirección General,General
END:VEVENT
BEGIN:VEVENT
DTSTART;TZID=UTC:20251024T110000
DTEND;TZID=UTC:20251024T130000
DTSTAMP:20260422T204937
CREATED:20251029T114313Z
LAST-MODIFIED:20251029T114313Z
UID:13748-1761303600-1761310800@ciuden.es
SUMMARY:Presentación de la publicación Ambienta
DESCRIPTION:La directora general de la Fundación Ciudad de la Energía (CIUDEN)\, Yasodhara López\, y la directora del área de museos\, patrimonio y cultura\, Concepción Fernández\, asisten al acto de presentación de la publicación Ambienta del Ministerio para la Transición Ecológica y el Reto Demográfico (MITECO) junto con otros autores de artículos de la revista. \n  \n 
URL:https://ciuden.es/evento/presentacion-de-la-publicacion-ambienta/
LOCATION:Teatro Real (Madrid)\, España
CATEGORIES:Dirección General,General
END:VEVENT
BEGIN:VEVENT
DTSTART;TZID=UTC:20251029T121500
DTEND;TZID=UTC:20251029T130000
DTSTAMP:20260422T204937
CREATED:20251029T114610Z
LAST-MODIFIED:20251029T114610Z
UID:13751-1761740100-1761742800@ciuden.es
SUMMARY:III Encuentro Nacional de la Red de Centros de Innovación Territorial y el Programa Campus Rural
DESCRIPTION:La directora general de la Fundación Ciudad de la Energía (CIUDEN)\, Yasodhara López\, asiste al III Encuentro Nacional de la Red de Centros de Innovación Territorial y el Programa Campus Rural e interviene para hablar sobre la dinamización cultural en los territorios con el programa Dinamiz-ARTj en el bloque 2: Cultura y patrimonio desde el territorio.  \n 
URL:https://ciuden.es/evento/iii-encuentro-nacional-de-la-red-de-centros-de-innovacion-territorial-y-el-programa-campus-rural/
LOCATION:Centro de Innovacióin Territorial de Beas de Segura (Jaén)\, España
CATEGORIES:Dirección General,General
END:VEVENT
BEGIN:VEVENT
DTSTART;TZID=UTC:20251029T170000
DTEND;TZID=UTC:20251029T183000
DTSTAMP:20260422T204937
CREATED:20251029T114821Z
LAST-MODIFIED:20251029T114821Z
UID:13754-1761757200-1761762600@ciuden.es
SUMMARY:III Encuentro Nacional de la Red de Centros de Innovación Territorial y el Programa Campus Rural
DESCRIPTION:La directora general de la Fundación Ciudad de la Energía (CIUDEN)\, Yasodhara López\, asiste al III Encuentro Nacional de la Red de Centros de Innovación Territorial y el Programa Campus Rural e interviene en la jornada con representantes de los centros de innovación para presentar la nueva web y aplicación del nodo.
URL:https://ciuden.es/evento/iii-encuentro-nacional-de-la-red-de-centros-de-innovacion-territorial-y-el-programa-campus-rural-2/
LOCATION:Centro de Innovacióin Territorial de Beas de Segura (Jaén)\, España
CATEGORIES:Dirección General,General
END:VEVENT
END:VCALENDAR