BEGIN:VCALENDAR
VERSION:2.0
PRODID:-//Fundación Ciudad de la Energía - ECPv6.15.14//NONSGML v1.0//EN
CALSCALE:GREGORIAN
METHOD:PUBLISH
X-WR-CALNAME:Fundación Ciudad de la Energía
X-ORIGINAL-URL:https://ciuden.es
X-WR-CALDESC:Eventos para Fundación Ciudad de la Energía
REFRESH-INTERVAL;VALUE=DURATION:PT1H
X-Robots-Tag:noindex
X-PUBLISHED-TTL:PT1H
BEGIN:VTIMEZONE
TZID:UTC
BEGIN:STANDARD
TZOFFSETFROM:+0000
TZOFFSETTO:+0000
TZNAME:UTC
DTSTART:20240101T000000
END:STANDARD
END:VTIMEZONE
BEGIN:VEVENT
DTSTART;TZID=UTC:20251201T120000
DTEND;TZID=UTC:20251201T140000
DTSTAMP:20260422T182046
CREATED:20251128T102132Z
LAST-MODIFIED:20251128T102853Z
UID:14085-1764590400-1764597600@ciuden.es
SUMMARY:Red de Destinos Turísticos del Carbón
DESCRIPTION:La directora general de la Fundación Ciudad de la Energía (CIUDEN)\, Yasodhara López\, y la coordinadora del área de transición justa\, Begoña María-Tomé\, asisten a la primera reunión de la Red de Destinos Turísticos del Carbón con representantes de los socios.
URL:https://ciuden.es/evento/red-de-destinos-turisticos-del-carbon/
LOCATION:Madrid
CATEGORIES:Dirección General,General
END:VEVENT
BEGIN:VEVENT
DTSTART;TZID=UTC:20251202T110000
DTEND;TZID=UTC:20251202T140000
DTSTAMP:20260422T182046
CREATED:20251128T102321Z
LAST-MODIFIED:20251128T102321Z
UID:14088-1764673200-1764684000@ciuden.es
SUMMARY:Jornada informativa de Dinamiz-ARTj
DESCRIPTION:La directora general de la Fundación Ciudad de la Energía (CIUDEN)\, Yasodhara López\, asiste a la jornada informativa sobre la apertura de la 4ª edición de Dinamiz-ARTj con representantes de ayuntamientos y artistas de las zonas de transición justa de Meirama (A Coruña) y As Pontes (A Coruña y Lugo).
URL:https://ciuden.es/evento/jornada-informativa-de-dinamiz-artj/
LOCATION:A Coruña
CATEGORIES:Dirección General,General
END:VEVENT
BEGIN:VEVENT
DTSTART;TZID=UTC:20251204T100000
DTEND;TZID=UTC:20251204T120000
DTSTAMP:20260422T182046
CREATED:20251128T102508Z
LAST-MODIFIED:20251128T102640Z
UID:14091-1764842400-1764849600@ciuden.es
SUMMARY:Reunión del Comité de Expertos en Sostenibilidad
DESCRIPTION:La directora general de la Fundación Ciudad de la Energía (CIUDEN)\, Yasodhara López\, y la directora del área de museos\, patrimonio y cultura de la Fundación\, Concepción Fernández\, asisten a la reunión del Comité de Expertos en Sostenibilidad en el marco de La Recicladora Cultural con representantes de entidades culturales a nivel nacional.
URL:https://ciuden.es/evento/reunion-del-comite-de-expertos-en-sostenibilidad/
LOCATION:Ponferrada
CATEGORIES:Dirección General,General
END:VEVENT
BEGIN:VEVENT
DTSTART;TZID=UTC:20251211T193000
DTEND;TZID=UTC:20251211T230000
DTSTAMP:20260422T182046
CREATED:20251204T113232Z
LAST-MODIFIED:20251204T113357Z
UID:14218-1765481400-1765494000@ciuden.es
SUMMARY:XVII Bienal de Arquitectura y Urbanismo
DESCRIPTION:La directora general de la Fundación Ciudad de la Energía (CIUDEN)\, Yasodhara López\, interviene en la ceremonia de celebración de la XVII Bienal de Arquitectura y Urbanismo\, que se celebra en La Térmica Cultural bajo el título ‘Flujos Comunes: Respuesta a un territorio hiperconectado’.
URL:https://ciuden.es/evento/xvii-bienal-de-arquitectura-y-urbanismo/
LOCATION:Ponferrada
CATEGORIES:Dirección General,General
END:VEVENT
BEGIN:VEVENT
DTSTART;TZID=UTC:20251218T093000
DTEND;TZID=UTC:20251218T103000
DTSTAMP:20260422T182046
CREATED:20251217T141441Z
LAST-MODIFIED:20251217T141441Z
UID:14282-1766050200-1766053800@ciuden.es
SUMMARY:Presentación del electrolizador de membrana polimérica (PEM)
DESCRIPTION:La Fundación Ciudad de la Energía (CIUDEN) presenta el electrolizador de membrana polimérica protónica para la producción de hidrógeno verde. \nLa atención a medios tendrá lugar en el Centro de Desarrollo de Tecnologías de CIUDEN en Cubillos del Sil e intervendrán Judit Carreras\, directora del Instituto para la Transición Justa (ITJ)\, y Yasodhara López\, directora general de CIUDEN. \n 
URL:https://ciuden.es/evento/presentacion-del-electrolizador-de-membrana-polimerica-pem/
LOCATION:Centro de Desarrollo de Tecnologías de CIUDEN en Cubillos del Sil
CATEGORIES:Dirección General,General
END:VEVENT
END:VCALENDAR