BEGIN:VCALENDAR
VERSION:2.0
PRODID:-//Fundación Ciudad de la Energía - ECPv6.15.14//NONSGML v1.0//EN
CALSCALE:GREGORIAN
METHOD:PUBLISH
X-ORIGINAL-URL:https://ciuden.es
X-WR-CALDESC:Eventos para Fundación Ciudad de la Energía
REFRESH-INTERVAL;VALUE=DURATION:PT1H
X-Robots-Tag:noindex
X-PUBLISHED-TTL:PT1H
BEGIN:VTIMEZONE
TZID:UTC
BEGIN:STANDARD
TZOFFSETFROM:+0000
TZOFFSETTO:+0000
TZNAME:UTC
DTSTART:20250101T000000
END:STANDARD
END:VTIMEZONE
BEGIN:VEVENT
DTSTART;TZID=UTC:20260115T110000
DTEND;TZID=UTC:20260115T120000
DTSTAMP:20260422T170926
CREATED:20260114T172616Z
LAST-MODIFIED:20260212T144829Z
UID:14340-1768474800-1768478400@ciuden.es
SUMMARY:Inauguración del Laboratorio de Ciberseguridad Industrial
DESCRIPTION:La Fundación Ciudad de la Energía (CIUDEN) inaugura el Laboratorio de Ciberseguridad Industrial. \nLa atención a medios tendrá lugar en el Centro de Desarrollo de Tecnologías de CIUDEN en Cubillos del Sil e intervendrá Joan Groizard\, secretario de Estado de Energía.
URL:https://ciuden.es/evento/inauguracion-del-laboratorio-de-ciberseguridad-industrial/
LOCATION:Centro de Desarrollo de Tecnologías de CIUDEN en Cubillos del Sil
CATEGORIES:Dirección General,General
END:VEVENT
BEGIN:VEVENT
DTSTART;TZID=UTC:20260123T120000
DTEND;TZID=UTC:20260123T133000
DTSTAMP:20260422T170926
CREATED:20260116T160624Z
LAST-MODIFIED:20260122T081626Z
UID:14358-1769169600-1769175000@ciuden.es
SUMMARY:Apertura de la exposición Félix de la Concha. Coreografías de la atención
DESCRIPTION:La directora general de CIUDEN\, Yasodhara López\, asiste al acto de apertura en La Térmica Cultural de la exposición Félix de la Concha. Coreografías de la atención con el autor\, Félix de la Concha\, la comisaria de la muestra\, Nieves Acedo\, y la directora del área de museos\, patrimonio y cultura de la Fundación Ciudad de la Energía (CIUDEN).
URL:https://ciuden.es/evento/apertura-de-la-exposicion-felix-de-la-concha-coreografias-de-la-atencion-2/
LOCATION:La Térmica Cultural
CATEGORIES:Dirección General
END:VEVENT
END:VCALENDAR